BEGIN:VCALENDAR
PRODID:-//AT Content Types//AT Event//EN
VERSION:2.0
METHOD:PUBLISH
BEGIN:VEVENT
DTSTAMP:20260421T110132Z
CREATED:20240404T152438Z
UID:ATEvent-084ae3bf066a486d9fe0a65f369fe4e7
LAST-MODIFIED:20240404T152452Z
SUMMARY:Riunione Gruppo Moda dedicata alle aziende di Monza
DTSTART:20240409T153000Z
DTEND:20240409T170000Z
LOCATION:Monza
CLASS:PUBLIC
END:VEVENT
END:VCALENDAR
