BEGIN:VCALENDAR
PRODID:-//AT Content Types//AT Event//EN
VERSION:1.0
BEGIN:VEVENT
DTSTART:20230707T080000Z
DTEND:20230707T110000Z
DCREATED:20230619T105441Z
UID:ATEvent-62a0da9f32fe4164aa26aaa2508e3d1b
SEQUENCE:0
LAST-MODIFIED:20230619T105544Z
SUMMARY:Risoluzione e conciliazione nel rapporto di lavoro dirigenziale
DESCRIPTION:Webinar dedicato all'analisi delle principali forme di ris
 oluzione del rapporto di lavoro dirigenziale e conseguente processo co
 nciliativo in sede sindacale (Assolombarda) di cui all’Accordo Assol
 ombarda-ALDAI del 26 marzo 2002.
LOCATION:On line
PRIORITY:3
TRANSP:0
END:VEVENT
END:VCALENDAR
