BEGIN:VCALENDAR
PRODID:-//AT Content Types//AT Event//EN
VERSION:2.0
METHOD:PUBLISH
BEGIN:VEVENT
DTSTAMP:20260422T154935Z
CREATED:20161111T102509Z
UID:ATEvent-91879a8ac31c45ffb9f54b0122ae9734
LAST-MODIFIED:20161118T153631Z
SUMMARY:Rischi derivanti da campi elettromagnetici - Dlgs 159/2016
DTSTART:20161130T084500Z
DTEND:20161130T110000Z
LOCATION:Bergamo
CLASS:PUBLIC
END:VEVENT
END:VCALENDAR
