BEGIN:VCALENDAR
PRODID:-//AT Content Types//AT Event//EN
VERSION:2.0
METHOD:PUBLISH
BEGIN:VEVENT
DTSTAMP:20260425T140033Z
CREATED:20220614T160145Z
UID:ATEvent-e64c9cb3426c4d648bc8a8333a287582
LAST-MODIFIED:20220614T160257Z
SUMMARY:Rischi da movimentazione manuale dei carichi e trasporto in piano. Nuova Norma UNI ISO 11228-1:2022
DTSTART:20220617T080000Z
DTEND:20220617T100000Z
LOCATION:On line
CLASS:PUBLIC
END:VEVENT
END:VCALENDAR
