BEGIN:VCALENDAR
PRODID:-//AT Content Types//AT Event//EN
VERSION:1.0
BEGIN:VEVENT
DTSTART:20241203T150000Z
DTEND:20241203T160000Z
DCREATED:20241126T143021Z
UID:ATEvent-ced06ae3e93a4483937039df5e16b99f
SEQUENCE:0
LAST-MODIFIED:20241127T082301Z
SUMMARY:Rinnovo CCNL Dirigenti Industria: le principali novità
LOCATION:online
PRIORITY:3
TRANSP:0
END:VEVENT
END:VCALENDAR
