BEGIN:VCALENDAR
PRODID:-//AT Content Types//AT Event//EN
VERSION:2.0
METHOD:PUBLISH
BEGIN:VEVENT
DTSTAMP:20260422T202827Z
CREATED:20221006T101050Z
UID:ATEvent-ffe6ccdabdb94f12a32ea5311f8b9810
LAST-MODIFIED:20221007T083806Z
SUMMARY:Rinascimento digitale: la persona al centro
DTSTART:20221007T140000Z
DTEND:20221007T160000Z
LOCATION:Bergamo
CLASS:PUBLIC
END:VEVENT
END:VCALENDAR
