BEGIN:VCALENDAR
PRODID:-//AT Content Types//AT Event//EN
VERSION:1.0
BEGIN:VEVENT
DTSTART:20180221T090000Z
DTEND:20180221T120000Z
DCREATED:20180213T170424Z
UID:ATEvent-31d83c58a8bf4f3ba352e03340a25ae2
SEQUENCE:0
LAST-MODIFIED:20180213T170448Z
SUMMARY:Riforma del Fondo di Garanzia per le PMI
LOCATION:Milano
PRIORITY:3
TRANSP:0
END:VEVENT
END:VCALENDAR
