BEGIN:VCALENDAR
PRODID:-//AT Content Types//AT Event//EN
VERSION:1.0
BEGIN:VEVENT
DTSTART:20180718T080000Z
DTEND:20180718T160000Z
DCREATED:20180706T095937Z
UID:ATEvent-f0af7dd00ae14ead879c3d62ead2304a
SEQUENCE:0
LAST-MODIFIED:20180706T100014Z
SUMMARY:Ricerca partner commerciali e industriali internazionali
LOCATION:Mantova
PRIORITY:3
TRANSP:0
END:VEVENT
END:VCALENDAR
