BEGIN:VCALENDAR
PRODID:-//AT Content Types//AT Event//EN
VERSION:1.0
BEGIN:VEVENT
DTSTART:20160725T073000Z
DTEND:20160725T110000Z
DCREATED:20160720T145652Z
UID:ATEvent-c7d9d60d75f34716aac8064de3f02314
SEQUENCE:0
LAST-MODIFIED:20160720T145824Z
SUMMARY:Ricerca\, Innovazione E Formazione finanziata: opportunità e prospettive
LOCATION:Gallarate (VA)
PRIORITY:3
TRANSP:0
END:VEVENT
END:VCALENDAR
