BEGIN:VCALENDAR
PRODID:-//AT Content Types//AT Event//EN
VERSION:2.0
METHOD:PUBLISH
BEGIN:VEVENT
DTSTAMP:20260421T145704Z
CREATED:20250908T100254Z
UID:ATEvent-0be12b226f2e47f6934d05b3ba815708
LAST-MODIFIED:20250908T100506Z
SUMMARY:Rete WHP - Workplace Health Promotion
DTSTART:20250916T123000Z
DTEND:20250916T150000Z
DESCRIPTION:Luoghi di lavoro che promuovono salute - Rete WHP Lombardi
 a
LOCATION:Nembro
CLASS:PUBLIC
END:VEVENT
END:VCALENDAR
