BEGIN:VCALENDAR
PRODID:-//AT Content Types//AT Event//EN
VERSION:2.0
METHOD:PUBLISH
BEGIN:VEVENT
DTSTAMP:20260425T154031Z
CREATED:20211001T093737Z
UID:ATEvent-12d80f89957341b98a2b39e8a50b6983
LAST-MODIFIED:20211020T143500Z
SUMMARY:Restrizioni all’esportazione e nuovo regolamento sui beni a duplice uso
DTSTART:20211008T080000Z
DTEND:20211008T100000Z
LOCATION:On line
CLASS:PUBLIC
END:VEVENT
END:VCALENDAR
