BEGIN:VCALENDAR
PRODID:-//AT Content Types//AT Event//EN
VERSION:2.0
METHOD:PUBLISH
BEGIN:VEVENT
DTSTAMP:20260421T103344Z
CREATED:20241106T142521Z
UID:ATEvent-62e95e48583440c4b37e7e7748a7ba86
LAST-MODIFIED:20241108T112124Z
SUMMARY:RELIND - Primo Forum delle Relazioni Industriali
DTSTART:20241118T083000Z
DTEND:20241119T153000Z
DESCRIPTION:Assolombarda e Confindustria presentano due giornate dedic
 ate alle Relazioni industriali: un’occasione di confronto tra istitu
 zioni\, imprese e principali stakeholder su un tema strategico per il 
 mondo del lavoro.
LOCATION:Milano
CLASS:PUBLIC
END:VEVENT
END:VCALENDAR
