BEGIN:VCALENDAR
PRODID:-//AT Content Types//AT Event//EN
VERSION:2.0
METHOD:PUBLISH
BEGIN:VEVENT
DTSTAMP:20260424T064408Z
CREATED:20170925T130435Z
UID:ATEvent-f40a6ca3f7854cfb848ebaa563aaf1d5
LAST-MODIFIED:20170925T130446Z
SUMMARY:Regno Unito: gli effetti della Brexit nei rapporti commerciali correnti e futuri
DTSTART:20171010T080000Z
DTEND:20171010T110000Z
LOCATION:Milano
CLASS:PUBLIC
END:VEVENT
END:VCALENDAR
