BEGIN:VCALENDAR
PRODID:-//AT Content Types//AT Event//EN
VERSION:1.0
BEGIN:VEVENT
DTSTART:20161123T143000Z
DTEND:20161123T163000Z
DCREATED:20161017T100033Z
UID:ATEvent-84c194e5282042f69a48eb7c9aa661b8
SEQUENCE:0
LAST-MODIFIED:20161118T142454Z
SUMMARY:Regioni Europee Motore della Crescita
LOCATION:Milano
PRIORITY:3
TRANSP:0
END:VEVENT
END:VCALENDAR
