BEGIN:VCALENDAR
PRODID:-//AT Content Types//AT Event//EN
VERSION:1.0
BEGIN:VEVENT
DTSTART:20160914T130000Z
DTEND:20160914T160000Z
DCREATED:20160907T151657Z
UID:ATEvent-56b27633501647b996e55c6a4a5960d5
SEQUENCE:0
LAST-MODIFIED:20160907T151721Z
SUMMARY:Recupero crediti nazionali ed esteri: incontri individuali
LOCATION:Bergamo
PRIORITY:3
TRANSP:0
END:VEVENT
END:VCALENDAR
