BEGIN:VCALENDAR
PRODID:-//AT Content Types//AT Event//EN
VERSION:1.0
BEGIN:VEVENT
DTSTART:20160712T080000Z
DTEND:20160712T110000Z
DCREATED:20160701T140955Z
UID:ATEvent-2da440b7210d454f95f17539e6f02321
SEQUENCE:0
LAST-MODIFIED:20160701T141121Z
SUMMARY:Recupero crediti nazionali ed esteri
DESCRIPTION:incontri individuali gratuiti
LOCATION:Bergamo
PRIORITY:3
TRANSP:0
END:VEVENT
END:VCALENDAR
