BEGIN:VCALENDAR
PRODID:-//AT Content Types//AT Event//EN
VERSION:2.0
METHOD:PUBLISH
BEGIN:VEVENT
DTSTAMP:20260424T095029Z
CREATED:20180216T151128Z
UID:ATEvent-6e0b0a82d16c49b1b16b9586627a50c2
LAST-MODIFIED:20180216T151133Z
SUMMARY:Rassegna cinematografica 'Dove osano le donne'
DTSTART:20180221T173000Z
DTEND:20180221T200000Z
LOCATION:Milano
CLASS:PUBLIC
END:VEVENT
END:VCALENDAR
