BEGIN:VCALENDAR
PRODID:-//AT Content Types//AT Event//EN
VERSION:1.0
BEGIN:VEVENT
DTSTART:20220617T080000Z
DTEND:20220617T090000Z
DCREATED:20220615T132238Z
UID:ATEvent-ed1a48a338e9447faa80fc8d6c776bd7
SEQUENCE:0
LAST-MODIFIED:20220615T152434Z
SUMMARY:Rapporto sulla qualità degli outcomes clinici negli ospedali – Confronto tra Regione Lombardia e le altre regioni
LOCATION:Milano
PRIORITY:3
TRANSP:0
END:VEVENT
END:VCALENDAR
