BEGIN:VCALENDAR
PRODID:-//AT Content Types//AT Event//EN
VERSION:2.0
METHOD:PUBLISH
BEGIN:VEVENT
DTSTAMP:20260424T075339Z
CREATED:20170928T105931Z
UID:ATEvent-d051f3a8ab394af6b15780c0a984c608
LAST-MODIFIED:20170928T110058Z
SUMMARY:RAEE - rifiuti di apparecchiature elettriche ed elettroniche
DTSTART:20171009T120000Z
DTEND:20171009T153000Z
LOCATION:Lecco e Sondrio
CLASS:PUBLIC
END:VEVENT
END:VCALENDAR
