BEGIN:VCALENDAR
PRODID:-//AT Content Types//AT Event//EN
VERSION:2.0
METHOD:PUBLISH
BEGIN:VEVENT
DTSTAMP:20260420T160855Z
CREATED:20170913T150151Z
UID:ATEvent-c85db895d9134efaa960606e3c5e00f5
LAST-MODIFIED:20170914T145137Z
SUMMARY:RAEE - Produttori di apparecchiature elettriche ed elettroniche
DTSTART:20171003T121500Z
DTEND:20171003T160000Z
DESCRIPTION:I nuovi adempimenti. Come affrontare gli obblighi previsti
  per le nuove tipologie di prodotto
LOCATION:Milano
CLASS:PUBLIC
END:VEVENT
END:VCALENDAR
