BEGIN:VCALENDAR
PRODID:-//AT Content Types//AT Event//EN
VERSION:2.0
METHOD:PUBLISH
BEGIN:VEVENT
DTSTAMP:20260420T012834Z
CREATED:20221019T143344Z
UID:ATEvent-14d75532a118481e85d7cf851621fb0d
LAST-MODIFIED:20221110T171301Z
SUMMARY:Quali sono le regole per lavorare all'estero: il distacco dei lavoratori
DTSTART:20221117T133000Z
DTEND:20221117T150000Z
LOCATION:Online
CLASS:PUBLIC
END:VEVENT
END:VCALENDAR
