BEGIN:VCALENDAR
PRODID:-//AT Content Types//AT Event//EN
VERSION:1.0
BEGIN:VEVENT
DTSTART:20230928T080000Z
DTEND:20230928T093000Z
DCREATED:20230925T090217Z
UID:ATEvent-a3437ec6ca1c49ab8654f900bef8e7d3
SEQUENCE:0
LAST-MODIFIED:20230926T170136Z
SUMMARY:Quali sono le regole per lavorare all'estero - Il distacco dei lavoratori
DESCRIPTION:Analisi dell'istituto del distacco e indicazione di soluzi
 oni operative per la gestione della mobilità internazionale dei lavor
 atori - Focus Francia e Spagna.
LOCATION:Online
PRIORITY:3
TRANSP:0
END:VEVENT
END:VCALENDAR
