BEGIN:VCALENDAR
PRODID:-//AT Content Types//AT Event//EN
VERSION:2.0
METHOD:PUBLISH
BEGIN:VEVENT
DTSTAMP:20260420T140044Z
CREATED:20241008T145711Z
UID:ATEvent-f7275c8cf1ee4d8884a2c8955b778aa9
LAST-MODIFIED:20241008T153214Z
SUMMARY:Punto Europa - finanziamenti a cascata dell'UE: opportunità per progetti dimostrativi su scala ridotta
DTSTART:20241018T090000Z
DTEND:20241018T100000Z
LOCATION:online
CLASS:PUBLIC
END:VEVENT
END:VCALENDAR
