BEGIN:VCALENDAR
PRODID:-//AT Content Types//AT Event//EN
VERSION:1.0
BEGIN:VEVENT
DTSTART:20230711T070000Z
DTEND:20230711T153000Z
DCREATED:20230629T090432Z
UID:ATEvent-945afb11a140484db03b3a4553644bd3
SEQUENCE:0
LAST-MODIFIED:20230629T091142Z
SUMMARY:Punto Europa a Bergamo - Incontri one to one con le aziende
DESCRIPTION:Prenota il tuo posto per partecipare ai Bandi Europei
LOCATION:Bergamo
PRIORITY:3
TRANSP:0
END:VEVENT
END:VCALENDAR
