BEGIN:VCALENDAR
PRODID:-//AT Content Types//AT Event//EN
VERSION:1.0
BEGIN:VEVENT
DTSTART:20160704T130000Z
DTEND:20160704T160000Z
DCREATED:20160610T133103Z
UID:ATEvent-fd7055ba271e4fbd968d69537b3b797e
SEQUENCE:0
LAST-MODIFIED:20160614T125932Z
SUMMARY:Puntiamo sulle imprese - Per una ripresa oltre le aspettative
LOCATION:Cremona
PRIORITY:3
TRANSP:0
END:VEVENT
END:VCALENDAR
