BEGIN:VCALENDAR
PRODID:-//AT Content Types//AT Event//EN
VERSION:2.0
METHOD:PUBLISH
BEGIN:VEVENT
DTSTAMP:20260425T233838Z
CREATED:20160615T155519Z
UID:ATEvent-59a41fcc26d248d3ad7b089e066609b2
LAST-MODIFIED:20160615T155656Z
SUMMARY:Proiezione del documentario "The True Cost"
DTSTART:20160624T153000Z
DTEND:20160624T173000Z
LOCATION:Como
CLASS:PUBLIC
END:VEVENT
END:VCALENDAR
