BEGIN:VCALENDAR
PRODID:-//AT Content Types//AT Event//EN
VERSION:1.0
BEGIN:VEVENT
DTSTART:20181214T140000Z
DTEND:20181214T163000Z
DCREATED:20181208T145223Z
UID:ATEvent-1880b4e959d847169f661f58eb94186d
SEQUENCE:0
LAST-MODIFIED:20181208T145231Z
SUMMARY:Programma Workplace Health Promotion (WHP)
DESCRIPTION:Presentazione\, buone pratiche e premiazione delle aziende
  aderenti
LOCATION:Como
PRIORITY:3
TRANSP:0
END:VEVENT
END:VCALENDAR
