BEGIN:VCALENDAR
PRODID:-//AT Content Types//AT Event//EN
VERSION:2.0
METHOD:PUBLISH
BEGIN:VEVENT
DTSTAMP:20260424T123824Z
CREATED:20240222T132654Z
UID:ATEvent-4d493f423b3d493e9df433acc7f8b1ac
LAST-MODIFIED:20240222T132739Z
SUMMARY:Progetto WHP: riconoscimento alle aziende che promuovono il benessere sul luogo di lavoro
DTSTART:20240305T150000Z
DTEND:20240305T170000Z
LOCATION:Gallarate
CLASS:PUBLIC
END:VEVENT
END:VCALENDAR
