BEGIN:VCALENDAR
PRODID:-//AT Content Types//AT Event//EN
VERSION:2.0
METHOD:PUBLISH
BEGIN:VEVENT
DTSTAMP:20260421T150703Z
CREATED:20230613T092205Z
UID:ATEvent-4e57222fc7154cb4a201bb6bf2595874
LAST-MODIFIED:20230613T122100Z
SUMMARY:Progetto People\, terzo incontro del ciclo di web meeting sul disagio giovanile: il bullismo e il cyberbullismo
DTSTART:20230614T090000Z
DTEND:20230614T100000Z
LOCATION:On line
CLASS:PUBLIC
END:VEVENT
END:VCALENDAR
