BEGIN:VCALENDAR
PRODID:-//AT Content Types//AT Event//EN
VERSION:1.0
BEGIN:VEVENT
DTSTART:20190122T160000Z
DTEND:20190122T190000Z
DCREATED:20190107T165420Z
UID:ATEvent-85ec559b24294f3cba649d031a0dfeb9
SEQUENCE:0
LAST-MODIFIED:20190107T165449Z
SUMMARY:Progetto Figli del Capo - Introduzione al mestiere di imprenditore
DESCRIPTION:3° lezione "Governance Aziendale"
LOCATION:Milano
PRIORITY:3
TRANSP:0
END:VEVENT
END:VCALENDAR
