BEGIN:VCALENDAR
PRODID:-//AT Content Types//AT Event//EN
VERSION:1.0
BEGIN:VEVENT
DTSTART:20190620T070000Z
DTEND:20190620T153000Z
DCREATED:20190604T160449Z
UID:ATEvent-1d0c0e5f93ef4727a5396f53f61a54df
SEQUENCE:0
LAST-MODIFIED:20190605T151128Z
SUMMARY:Progetto "DAZIO ZERO" Classifica e Origine delle merci,
LOCATION:Erba (CO)
PRIORITY:3
TRANSP:0
END:VEVENT
END:VCALENDAR
