BEGIN:VCALENDAR
PRODID:-//AT Content Types//AT Event//EN
VERSION:1.0
BEGIN:VEVENT
DTSTART:20210324T160000Z
DTEND:20210324T173000Z
DCREATED:20210323T164707Z
UID:ATEvent-284ba2727d524a999a194126046b910d
SEQUENCE:0
LAST-MODIFIED:20210323T164719Z
SUMMARY:Progetto Aziende Familiari - Incontro dedicato alle imprese del territorio di Pavia
LOCATION:On line
PRIORITY:3
TRANSP:0
END:VEVENT
END:VCALENDAR
