BEGIN:VCALENDAR
PRODID:-//AT Content Types//AT Event//EN
VERSION:2.0
METHOD:PUBLISH
BEGIN:VEVENT
DTSTAMP:20260424T041142Z
CREATED:20210304T162805Z
UID:ATEvent-b2374253046143baadb5cf6df4e838cf
LAST-MODIFIED:20210311T100125Z
SUMMARY:Progetto AlpLinkBioEco: Conferenza Finale
DTSTART:20210331T070000Z
DTEND:20210331T103000Z
LOCATION:On line
CLASS:PUBLIC
END:VEVENT
END:VCALENDAR
