BEGIN:VCALENDAR
PRODID:-//AT Content Types//AT Event//EN
VERSION:2.0
METHOD:PUBLISH
BEGIN:VEVENT
DTSTAMP:20260423T234220Z
CREATED:20170927T154804Z
UID:ATEvent-026569cd94bb450786ade30223a341b0
LAST-MODIFIED:20170927T154832Z
SUMMARY:Progettare il futuro. accelerazione\, trasformazione digitale\, competitività
DTSTART:20171012T130000Z
DTEND:20171012T160000Z
LOCATION:Crema (CR)
CLASS:PUBLIC
END:VEVENT
END:VCALENDAR
