BEGIN:VCALENDAR
PRODID:-//AT Content Types//AT Event//EN
VERSION:2.0
METHOD:PUBLISH
BEGIN:VEVENT
DTSTAMP:20260425T144820Z
CREATED:20230629T084026Z
UID:ATEvent-83b19586744a426ca0b279630affe023
LAST-MODIFIED:20230629T091128Z
SUMMARY:"Prodotti colti” - Innovazione\, sicurezza e sostenibilità nell’Agrifood
DTSTART:20230710T143000Z
DTEND:20230710T160000Z
DESCRIPTION:La Filiera Agroalimentare di Assolombarda valorizza le imp
 rese Pavesi del settore agrifood tra competitività e innovazione del 
 territorio.
LOCATION:Giussago (PV)
CLASS:PUBLIC
END:VEVENT
END:VCALENDAR
