BEGIN:VCALENDAR
PRODID:-//AT Content Types//AT Event//EN
VERSION:2.0
METHOD:PUBLISH
BEGIN:VEVENT
DTSTAMP:20260424T090210Z
CREATED:20161004T132938Z
UID:ATEvent-ce03b299bc4948beb30f209774b0745a
LAST-MODIFIED:20161017T150407Z
SUMMARY:Procedure doganali
DTSTART:20161025T080000Z
DTEND:20161025T110000Z
DESCRIPTION:cosa è cambiato a seguito dell’entrata in vigore del nu
 ovo codice
LOCATION:Milano
CLASS:PUBLIC
END:VEVENT
END:VCALENDAR
