BEGIN:VCALENDAR
PRODID:-//AT Content Types//AT Event//EN
VERSION:1.0
BEGIN:VEVENT
DTSTART:20161107T130000Z
DTEND:20161107T163000Z
DCREATED:20161019T103002Z
UID:ATEvent-3a393f1c2a6b42a785ab5a01d21a2a7d
SEQUENCE:0
LAST-MODIFIED:20161019T103237Z
SUMMARY:Privacy e controllo a distanza
LOCATION:Milano
PRIORITY:3
TRANSP:0
END:VEVENT
END:VCALENDAR
