BEGIN:VCALENDAR
PRODID:-//AT Content Types//AT Event//EN
VERSION:2.0
METHOD:PUBLISH
BEGIN:VEVENT
DTSTAMP:20260423T030250Z
CREATED:20210409T153056Z
UID:ATEvent-9039956b278341819e4e81559bea8836
LAST-MODIFIED:20210409T153103Z
SUMMARY:Prezzi delle materie prime: rincari\, cause\, impatti e prospettive
DTSTART:20210415T130000Z
DTEND:20210415T150000Z
LOCATION:On line
CLASS:PUBLIC
END:VEVENT
END:VCALENDAR
