BEGIN:VCALENDAR
PRODID:-//AT Content Types//AT Event//EN
VERSION:2.0
METHOD:PUBLISH
BEGIN:VEVENT
DTSTAMP:20260421T150943Z
CREATED:20220223T145717Z
UID:ATEvent-79acdfef63d541d4a87834033670c98b
LAST-MODIFIED:20220223T145820Z
SUMMARY:Prevenzione incendi: nuovi decreti in vigore dal 2022
DTSTART:20220301T100000Z
DTEND:20220301T110000Z
LOCATION:On line
CLASS:PUBLIC
END:VEVENT
END:VCALENDAR
