BEGIN:VCALENDAR
PRODID:-//AT Content Types//AT Event//EN
VERSION:1.0
BEGIN:VEVENT
DTSTART:20231120T090000Z
DTEND:20231120T110000Z
DCREATED:20231114T132411Z
UID:ATEvent-66bbf50e56634fdc8f4dcfabbddd0121
SEQUENCE:0
LAST-MODIFIED:20231116T084827Z
SUMMARY:Presentazione operativa open-es
LOCATION:Brescia
PRIORITY:3
TRANSP:0
END:VEVENT
END:VCALENDAR
