BEGIN:VCALENDAR
PRODID:-//AT Content Types//AT Event//EN
VERSION:2.0
METHOD:PUBLISH
BEGIN:VEVENT
DTSTAMP:20260424T080928Z
CREATED:20240219T102957Z
UID:ATEvent-ce469968c7144e7c9db3269170eff3cf
LAST-MODIFIED:20240219T142247Z
SUMMARY:Presentazione ITS Move Academy
DTSTART:20240304T160000Z
DTEND:20240304T180000Z
LOCATION:Bergamo
CLASS:PUBLIC
END:VEVENT
END:VCALENDAR
