BEGIN:VCALENDAR
PRODID:-//AT Content Types//AT Event//EN
VERSION:2.0
METHOD:PUBLISH
BEGIN:VEVENT
DTSTAMP:20260421T093159Z
CREATED:20220421T155146Z
UID:ATEvent-008eaa56b53f4fa08e265e74581f415c
LAST-MODIFIED:20220421T155150Z
SUMMARY:Presentazione dichiarazione MUD 2022 (Anno 2021)
DTSTART:20220426T123000Z
DTEND:20220426T140000Z
LOCATION:On line
CLASS:PUBLIC
END:VEVENT
END:VCALENDAR
