BEGIN:VCALENDAR
PRODID:-//AT Content Types//AT Event//EN
VERSION:1.0
BEGIN:VEVENT
DTSTART:20220225T100000Z
DTEND:20220225T110000Z
DCREATED:20220223T151815Z
UID:ATEvent-c39c85893e1143e48fcb462e3916a849
SEQUENCE:0
LAST-MODIFIED:20220223T151827Z
SUMMARY:Presentazione dello scenario rischi 2022 del settore Automotive
LOCATION:On line
PRIORITY:3
TRANSP:0
END:VEVENT
END:VCALENDAR
