BEGIN:VCALENDAR
PRODID:-//AT Content Types//AT Event//EN
VERSION:1.0
BEGIN:VEVENT
DTSTART:20250401T083000Z
DTEND:20250401T093000Z
DCREATED:20250325T212326Z
UID:ATEvent-413402e487c64e06949f4e79909fef12
SEQUENCE:0
LAST-MODIFIED:20250325T212343Z
SUMMARY:Presentazione della guida per lavori in ambienti sospetti di inquinamento o confinati
LOCATION:Online
PRIORITY:3
TRANSP:0
END:VEVENT
END:VCALENDAR
