BEGIN:VCALENDAR
PRODID:-//AT Content Types//AT Event//EN
VERSION:1.0
BEGIN:VEVENT
DTSTART:20231117T093000Z
DTEND:20231117T110000Z
DCREATED:20231114T141506Z
UID:ATEvent-3ddf227a1f6449ddb4592f13b60b712c
SEQUENCE:0
LAST-MODIFIED:20231114T141519Z
SUMMARY:Presentazione della "Guida operativa alla gestione degli imballaggi dell'Unione Europea"
LOCATION:Online
PRIORITY:3
TRANSP:0
END:VEVENT
END:VCALENDAR
