BEGIN:VCALENDAR
PRODID:-//AT Content Types//AT Event//EN
VERSION:1.0
BEGIN:VEVENT
DTSTART:20220323T100000Z
DTEND:20220323T120000Z
DCREATED:20220321T190807Z
UID:ATEvent-2e58e576d6e74992a35cc2e35ab8dd06
SEQUENCE:0
LAST-MODIFIED:20220321T191104Z
SUMMARY:Presentazione del rapporto "L'Italia delle fiere internazionali"
LOCATION:Roma e On line
PRIORITY:3
TRANSP:0
END:VEVENT
END:VCALENDAR
