BEGIN:VCALENDAR
PRODID:-//AT Content Types//AT Event//EN
VERSION:1.0
BEGIN:VEVENT
DTSTART:20210331T080000Z
DTEND:20210331T110000Z
DCREATED:20210324T204301Z
UID:ATEvent-5b325bf8005a4d22a974a227a67a3837
SEQUENCE:0
LAST-MODIFIED:20210324T204306Z
SUMMARY:Presentazione del rapporto finale del progetto Brescia Regeneration
LOCATION:On line
PRIORITY:3
TRANSP:0
END:VEVENT
END:VCALENDAR
