BEGIN:VCALENDAR
PRODID:-//AT Content Types//AT Event//EN
VERSION:1.0
BEGIN:VEVENT
DTSTART:20240307T163000Z
DTEND:20240307T180000Z
DCREATED:20240215T120307Z
UID:ATEvent-abd8f98de8c142fe83050ec4d00b8c08
SEQUENCE:0
LAST-MODIFIED:20240301T084249Z
SUMMARY:Presentazione del programma "Open Mind"
LOCATION:Bergamo e Online
PRIORITY:3
TRANSP:0
END:VEVENT
END:VCALENDAR
