BEGIN:VCALENDAR
PRODID:-//AT Content Types//AT Event//EN
VERSION:2.0
METHOD:PUBLISH
BEGIN:VEVENT
DTSTAMP:20260424T064611Z
CREATED:20260120T131551Z
UID:ATEvent-23eaab62c6664f3299a624ea5b60a75c
LAST-MODIFIED:20260120T132051Z
SUMMARY:Presentazione del programma "Open Mind" 2026
DTSTART:20260128T103000Z
DTEND:20260128T114500Z
LOCATION:Bergamo
CLASS:PUBLIC
END:VEVENT
END:VCALENDAR
