BEGIN:VCALENDAR
PRODID:-//AT Content Types//AT Event//EN
VERSION:2.0
METHOD:PUBLISH
BEGIN:VEVENT
DTSTAMP:20260420T145521Z
CREATED:20170925T154355Z
UID:ATEvent-64220460708d49128f6ddf54622129ab
LAST-MODIFIED:20170925T154414Z
SUMMARY:Presentazione del Programma ELITE
DTSTART:20171002T074500Z
DTEND:20171002T093000Z
LOCATION:Brescia
CLASS:PUBLIC
END:VEVENT
END:VCALENDAR
